BEGIN:VCALENDAR
VERSION:2.0
PRODID:-//Squarespace Inc/Squarespace 6//v6//EN
BEGIN:VEVENT
UID:60094140db6fcf4b6afed3ae@squarespace.com
DTSTAMP:20210121T095235Z
DTSTART:20210406T080000Z
DTEND:20210406T090000Z
SUMMARY:AFS Celebration
END:VEVENT
END:VCALENDAR
